BEGIN:VCALENDAR
VERSION:2.0
PRODID:https://github.com/derhansen/sf_event_mgt
METHOD:PUBLISH
BEGIN:VEVENT
UID:4808-122180@www.leuphana.de
CLASS: PUBLIC
SUMMARY:Microsoft Teams: Kanäle und Dateien
DESCRIPTION:In diesem Seminar lernst du Kanäle und Tags zu nutzen, um die T
 eamarbeit strukturiert zu organisieren. Du lernst Kanaltypen anzuwenden, ne
 ue Kanäle anzulegen, mit mehreren zu arbeiten und Tags als Ergänzung einzus
 etzen. Du lernst OneNote und SharePoint in Teams zu integrieren, Dateien ge
 meinsam zu verwalten, Zugriffe zu steuern und Versionsverläufe zu nutzen.\n
 \nInhalt:\n\nKanäle und TagsKanaltypen und EinsatzszenarienNeuen Kanal anle
 gen und mit mehreren Kanälen arbeitenKanäle im Teamraum verwaltenTags als E
 rgänzung einsetzenWeitere Tools in Teams integrierenOneNoteSharePointShareP
 ointDateien in Bibliotheken gemeinsam verwalten und alte Dateien wiederhers
 tellenZugriffe verwaltenDateien teilenGemeinsam in Dateien arbeitenVersions
 verlaufOneDrive vs. SharePoint\n\nFür dieses Seminar benötigst Du die Teams
 -App auf Deinem Computer. Bitte stell sicher, dass Teams auf Dein Mikrofon,
  Deine Kamera und Deine Bildschirmfreigabe zugreifen darf (siehe Systemeins
 tellungen). Melde Dich mit Deinem Leuphana-Account in Teams an, damit alles
  reibungslos funktioniert. \n\nBitte melde Dich für die Veranstaltung an! W
 ir freuen uns auf Dich!\n\nDer Zutritt in die Veranstaltung erfolgt über di
 esen Link:\n\nhttps://teams.microsoft.com/meet/373246104038891?p=s9SRsHFFI1
 AFHZOyiW\n\nBesprechungs-ID:373 246 104 038 891\n\nPasscode:NP6iQ6ws
DTSTAMP:20260424T062456Z
DTSTART:20260424T063000Z
DTEND:20260424T080000Z
END:VEVENT
END:VCALENDAR
