BEGIN:VCALENDAR
VERSION:2.0
PRODID:https://github.com/derhansen/sf_event_mgt
METHOD:PUBLISH
BEGIN:VEVENT
UID:4880-122180@www.leuphana.de
CLASS: PUBLIC
SUMMARY:Paywall, Fernleihe, Schattenbibliotheken - Wie komme ich an Literat
 ur, die ich benötige?
DESCRIPTION:Wer kennt es nicht: Das wichtige Buch für die Seminarvorbereitu
 ng oder das aktuelle Paper, das man in der Hausarbeit gerne zitieren möchte
 , sind in der Bibliothek vor Ort weder gedruckt noch elektronisch vorhanden
 . Das ist ärgerlich, aber kein Weltuntergang.In dieser Runde wollen wir gem
 einsam Wege ausprobieren, wie man doch noch legal an die gewünschten Texte 
 kommen kann.\n\nWer möchte, kann gerne Beispiele mitbringen.\n\nTeilnahmevo
 raussetzungen: \n\nKenntnis im Umgang mit LUX oder anderen Bibliothekskatal
 ogenoptional: Laptop mitbringen
DTSTAMP:20260401T092721Z
DTSTART:20260611T111500Z
DTEND:20260611T120000Z
END:VEVENT
END:VCALENDAR
