BEGIN:VCALENDAR
VERSION:2.0
PRODID:https://github.com/derhansen/sf_event_mgt
METHOD:PUBLISH
BEGIN:VEVENT
UID:4866-122180@www.leuphana.de
CLASS: PUBLIC
SUMMARY:Selbstorganisation mit Microsoft 365
DESCRIPTION:Microsoft 365 steht allen Studierenden und Beschäftigten der La
 uphana kostenlos zur Verfügung. In dieser praxisnahen Einführung zeigen wir
 , wie Sie die wichtigsten Anwendungen nutzen, um Ihren Studien- oder Arbeit
 salltag strukturiert, übersichtlich und stressärmer zu gestalten.• Outlook 
 & Kalender Wie Sie Termine, Besprechungen und Abgabefristen zuverlässig koo
 rdinieren, Kalender teilen und Benachrichtigungen sinnvoll einsetzen. Außer
 dem: Tipps für eine übersichtliche E-Mail-Organisation.• OneDrive Sicher sp
 eichern, gemeinsam bearbeiten und von jedem Gerät aus auf Dateien zugreifen
 . Wir zeigen, wie Versionierung funktioniert und wie Sie Ordner sinnvoll st
 rukturieren.• Teams Zusammenarbeit leicht gemacht: Chats, Besprechungen, ge
 meinsame Dateien und Kanäle für Projekte, Lehrveranstaltungen oder Arbeitsg
 ruppen. Ideal für Gruppenarbeiten und Teamkommunikation.• Planner & To Do A
 ufgaben planen, priorisieren und im Blick behalten – ob für persönliche To-
 dos, Projektarbeit oder Teamkoordination. Wir zeigen, wie beide Tools zusam
 menarbeiten und wie Sie realistische Workflows aufbauen.• OneNote Digitale 
 Notizen, die alles bündeln: Mitschriften, PDFs, Screenshots, Audioaufnahmen
  und mehr. Perfekt für Vorlesungen, Besprechungen oder Wissenssammlungen.Di
 e Veranstaltung richtet sich an alle, die ihre digitale Selbstorganisation 
 verbessern möchten – unabhängig vom Erfahrungsstand.
DTSTAMP:20260325T101855Z
DTSTART:20260609T090000Z
DTEND:20260609T110000Z
END:VEVENT
END:VCALENDAR
