BEGIN:VCALENDAR
VERSION:2.0
PRODID:https://github.com/derhansen/sf_event_mgt
METHOD:PUBLISH
BEGIN:VEVENT
UID:4881-122180@www.leuphana.de
CLASS: PUBLIC
SUMMARY:Videodreh: Kamera, Licht & Ton (Bib-Studio)
DESCRIPTION:In diesem 90-minütigen Workshop:\n\nlernst du die Grundlagen vo
 n Kamera, Licht und Ton.erhältst du praktische Tipps zur Kameraführung, Lic
 htsetzung und Tonaufnahme.probierst du selbst aus, wie Einstellungen, Persp
 ektiven und Bewegungen die Bildästhetik beeinflussen.\n\nNach dem Workshop 
 kannst du deine Ideen sicher und wirkungsvoll in eigene Filmaufnahmen umset
 zen.\n\nMitzubringen: Neugier, Kreativität – und gern die eigene Kamera\n\n
 Der Workshop ist ein Angebot des Bib-Studio: http://www.leuphana.de/bib-stu
 dio
DTSTAMP:20260401T094807Z
DTSTART:20260506T121500Z
DTEND:20260506T134500Z
END:VEVENT
END:VCALENDAR
