BEGIN:VCALENDAR
VERSION:2.0
PRODID:https://github.com/derhansen/sf_event_mgt
METHOD:PUBLISH
BEGIN:VEVENT
UID:4855-122180@www.leuphana.de
CLASS: PUBLIC
SUMMARY:Vorstellungsgespräche per VR-Brille trainieren (360° Simulation)
DESCRIPTION:Du möchtest gut für kommende Vorstellungsgespräche vorbereitet 
 sein und an Selbstsicherheit gewinnen? Dann ist dieses VR-Brillen gestützte
  Training mit 360° Visualisierungen für dich genau richtig. Unter realitäts
 nahen Bedingungen und in einer sicheren Umgebung kannst du die Rolle einer 
 Bewerberin / eines Bewerbers einnehmen und mit einer virtuellen Personaleri
 n ins Gespräch gehen. Egal aus welchem Bereich du kommst oder welchen Studi
 engang Du besuchst, das Training ist für Studierende und Berufseinsteiger*i
 nnen aus vielen verschiedenen Fachrichtungen geeignet.\n\nDas Interview dau
 ert ca. 30-45 Minuten. Nach deiner Anmeldung erhältst du zur Vorbereitung a
 uf das Training eine beispielhafte Stellenausschreibung, die als Grundlage 
 für das Interview dient. Bei diesem Training kannst du nicht scheitern, abe
 r eine neue Erfahrung machen und viel dazulernen.Wir freuen uns, dich im Vi
 rtual Reality Vorstellungsgesprächstraining begrüßen zu dürfen.
DTSTAMP:20260323T085112Z
DTSTART:20260519T120000Z
DTEND:20260519T130000Z
END:VEVENT
END:VCALENDAR
