BEGIN:VCALENDAR
VERSION:2.0
PRODID:https://github.com/derhansen/sf_event_mgt
METHOD:PUBLISH
BEGIN:VEVENT
UID:4889-113260@www.leuphana.de
CLASS: PUBLIC
SUMMARY:Öffentlicher Rundgang Zentralgebäude | 22. April
DESCRIPTION:Bitte seien Sie pünktlich. Falls Sie verhindert sind und desweg
 en nicht kommen können oder sich verspäten, schreiben Sie uns bitte eine E-
 Mail oder stornieren Sie den Öffentlichen Rundgang. Vielen Dank.
LOCATION:Zentralgebäude
DTSTAMP:20260407T135253Z
DTSTART:20260422T124500Z
DTEND:20260422T134500Z
END:VEVENT
END:VCALENDAR
